BEGIN:VCALENDAR
VERSION:2.0
PRODID:-//Full Moon Phangan//EN
CALSCALE:GREGORIAN
BEGIN:VEVENT
UID:2026-07-31@fullmoon-phangan.com
DTSTAMP:20260421T120216Z
DTSTART:20260731T210000Z
DTEND:20260731T050000Z
SUMMARY:Full Moon Party
LOCATION:Haad Rin Beach, Koh Phangan
DESCRIPTION:Full Moon Party at Haad Rin Beach, Koh Phangan.
END:VEVENT
END:VCALENDAR